BEGIN:VCALENDAR
VERSION:2.0
PRODID:-//Visuell Kommunizieren - ECPv6.15.17.1//NONSGML v1.0//EN
CALSCALE:GREGORIAN
METHOD:PUBLISH
X-ORIGINAL-URL:https://visuell-kommunizieren.de
X-WR-CALDESC:Veranstaltungen für Visuell Kommunizieren
REFRESH-INTERVAL;VALUE=DURATION:PT1H
X-Robots-Tag:noindex
X-PUBLISHED-TTL:PT1H
BEGIN:VTIMEZONE
TZID:Europe/Berlin
BEGIN:DAYLIGHT
TZOFFSETFROM:+0100
TZOFFSETTO:+0200
TZNAME:CEST
DTSTART:20230326T010000
END:DAYLIGHT
BEGIN:STANDARD
TZOFFSETFROM:+0200
TZOFFSETTO:+0100
TZNAME:CET
DTSTART:20231029T010000
END:STANDARD
BEGIN:DAYLIGHT
TZOFFSETFROM:+0100
TZOFFSETTO:+0200
TZNAME:CEST
DTSTART:20240331T010000
END:DAYLIGHT
BEGIN:STANDARD
TZOFFSETFROM:+0200
TZOFFSETTO:+0100
TZNAME:CET
DTSTART:20241027T010000
END:STANDARD
BEGIN:DAYLIGHT
TZOFFSETFROM:+0100
TZOFFSETTO:+0200
TZNAME:CEST
DTSTART:20250330T010000
END:DAYLIGHT
BEGIN:STANDARD
TZOFFSETFROM:+0200
TZOFFSETTO:+0100
TZNAME:CET
DTSTART:20251026T010000
END:STANDARD
END:VTIMEZONE
BEGIN:VEVENT
DTSTART;TZID=Europe/Berlin:20240109T090000
DTEND;TZID=Europe/Berlin:20240109T163000
DTSTAMP:20260422T110004
CREATED:20240103T082008Z
LAST-MODIFIED:20260317T123845Z
UID:10000276-1704790800-1704817800@visuell-kommunizieren.de
SUMMARY:Podcasting einfach gemacht | Onlineworkshop
DESCRIPTION:Termine & Anmeldung | Kosten\nPodcasts gehören zu den spannendsten Medienangeboten im Netz. Ob kurzer Info-Podcast oder einstündiges Fachgespräch: Podcasts erlauben unterschiedlichste Formate für verschiedenste Zielgruppen. \nIn diesem Workshop zeigen wir Ihnen das wichtigste Handwerkszeug rund um das Thema „Podcasts selbst produzieren: Von der Planung bis zur Veröffentlichung“. \nLerninhalte \n\nWarum Podcasting\nAktuelle Beispiele\nKonzeption\, Inhalte und Formate (Interview\, Gespräch\, etc.)\nEquipment und Technik\nAufzeichnung und Produktion\nPostproduktion: Schnitt\, Musik\, Intro\nHosting und Distribution\n\nLernziele \n\nPassende Formate und Inhalte finden\neigenen Podcast produzieren\nPostproduktion eigener Podcasts\nKnow-How zum Hosting und zur Veröffentlichung\n\nZielgruppe \nDas Seminar richtet sich an Mitarbeiterinnen und -mitarbeiter aus den Bereichen Öffentlichkeitsarbeit\, Internetredaktion/social media und Marketing. \nVoraussetzung für die Teilnahme ist ein Desktop-Rechner auf dem das  kostenlose Schnittprogramm Audacity installiert wird. \nTermine & Anmeldung\nTermine *17. September 202613. Januar 2027Unternehmen | Organisation *Vorname | Name *E-Mail *Telefon Rechnungsanschrift *Nachricht Akzeptieren Sie die AGB. *Ich akzeptiere die allgemeinen Geschäftsbedingungen (AGB)EmailAbsenden\nAGB / AGB als pdf \nKosten
URL:https://visuell-kommunizieren.de/workshop/podcasting-einfach-gemacht-onlineworkshop/2024-01-09/
CATEGORIES:Podcast
ATTACH;FMTTYPE=image/jpeg:https://visuell-kommunizieren.de/wp-content/uploads/2025/04/Podcasting-einfach-gemnacht.jpg
ORGANIZER;CN="Visuell Kommunizieren GbR":MAILTO:weiterbildung@visuell-kommunizieren.de
END:VEVENT
BEGIN:VEVENT
DTSTART;TZID=Europe/Berlin:20240129T093000
DTEND;TZID=Europe/Berlin:20240129T163000
DTSTAMP:20260422T110004
CREATED:20240103T084659Z
LAST-MODIFIED:20260317T112035Z
UID:10000310-1706520600-1706545800@visuell-kommunizieren.de
SUMMARY:Videoproduktion mit dem Smartphone - Basiskurs  | Onlineworkshop
DESCRIPTION:Termine & Anmeldung | Kosten\nSmartphones sind schnell\, man hat sie immer dabei und die Videoqualität ist mittlerweile bei den meisten Geräten ausgezeichnet. Ein prägnanter O-Ton\, eine Stellungnahme zu einer aktuellen Nachrichtenlage oder ein Aufruf an Mitarbeiter*innen und Kund*innen lassen sich mit dem Studio aus der Hosentasche effizient produzieren. \nLeider führt der Druck auf den Auslöser nicht automatisch zu einer guten Aufnahme. Worauf muss man also bei der Produktion achten? Wie wichtig sind Licht\, Ton und Bildkomposition? Worauf müssen die Personen vor der Kamera achten? Und wie kann ich meine Ergebnisse dann mit einfachen Mitteln gleich auf meinem Smartphone bearbeiten? \n \nUnser Workshop zeigt Ihnen die wichtigsten Kniffe\, um Interviews und Aufsager professionell mit dem Smartphone umzusetzen. Wir zeigen Ihnen Schnittfunktionen\, mit denen Sie Ihr Material schnell und effizient bearbeiten können und erklären\, wie Sie Text- und Bildeinblendungen einfügen. \nInhalte \n\nder richtige Einsatz der Smartphonekamera\nBild\, Licht und Ton\nSprechen vor der Kamera: Aufsager und Interview\nAufbau eines Aufsagers und Interviews\nSchnittfunktionen für Interviews und Aufsager\n\nLernziele \n\nErarbeiten geeigneter Themen und Einsatzbereiche\nÜberblick über die technischen Möglichkeiten\nEigenständige Planung und Umsetzung eines Produktionsprojekts\n\nZielgruppe \nDas Seminar richtet sich gezielt an Mitarbeiterinnen und -mitarbeiter aus den Bereichen Öffentlichkeitsarbeit\, Internetredaktion/social media und Marketing oder auch an Selbstständige. \nVoraussetzung für die Teilnahme ist ein aktuelles Smartphone mit iOS- oder Android-Betriebssystem\, auf das im Vorfeld ggf. ausgewählte Apps installiert werden müssen.\n\nDen Aufbauworkshop zu diesem Seminar finden Sie hier. \nTermine & Anmeldung\nTermine *2. Juni 20269. September 20263. Dezember 2026Unternehmen / Organisation *Vorname | Name *E-Mail *Telefon Rechnungsanschrift *PLZ | Ort *Nachricht Bitte bestätigen Sie die AGB. *Ich akzeptiere die allgemeinen Geschäftsbedingungen (AGB)CommentAbsenden\nKosten
URL:https://visuell-kommunizieren.de/workshop/online-workshop-videoproduktion-mit-dem-smartphone-basiskurs-2/2024-01-29/
CATEGORIES:Online-Training,Video,Videoproduktion mit dem Smartphone,Videoproduktion mit dem Smartphone online
ATTACH;FMTTYPE=image/jpeg:https://visuell-kommunizieren.de/wp-content/uploads/2025/04/Videosproduktion-mit-dem-Smartphone_Basis.jpg
ORGANIZER;CN="Visuell Kommunizieren GbR":MAILTO:weiterbildung@visuell-kommunizieren.de
END:VEVENT
END:VCALENDAR